BEGIN:VCALENDAR
VERSION:2.0
PRODID:-//eventon.com NONSGML v1.0//EN
CALSCALE:GREGORIAN
METHOD:PUBLISH
BEGIN:VEVENT
UID:69e73644d114a
DTSTAMP:20260421T083308Z
DTSTART:20260509
DTEND:20260510
LOCATION:
SUMMARY:Mathoura Cadell County Open
DESCRIPTION:\nhttps://bowls.kajx.com/Broadcasts/mathoura-cadell-county-open
 /
URL:https://bowls.kajx.com/Broadcasts/mathoura-cadell-county-open/
END:VEVENT
END:VCALENDAR