BEGIN:VCALENDAR
VERSION:2.0
PRODID:-//eventon.com NONSGML v1.0//EN
CALSCALE:GREGORIAN
METHOD:PUBLISH
BEGIN:VEVENT
UID:69e4c3658b6b0
DTSTAMP:20260419T115829Z
DTSTART:20260808
DTEND:20260809
LOCATION:
SUMMARY:Spring Fours Men at Echuca Bowls Club
DESCRIPTION:\nhttps://bowls.kajx.com/Broadcasts/spring-fours-men-at-echuca-
 bowls-club/
URL:https://bowls.kajx.com/Broadcasts/spring-fours-men-at-echuca-bowls-club/
END:VEVENT
END:VCALENDAR