BEGIN:VCALENDAR
VERSION:2.0
PRODID:-//eventon.com NONSGML v1.0//EN
CALSCALE:GREGORIAN
METHOD:PUBLISH
BEGIN:VEVENT
UID:69e7529cbec9c
DTSTAMP:20260421T103404Z
DTSTART:20260912
DTEND:20260913
LOCATION:
SUMMARY:Joyce Thorn Memorial Woman's Pairs at Echuca Bowls Club
DESCRIPTION:\nhttp://bowls.kajx.com/Broadcasts/joyce-thorn-memorial-womans-
 pairs-at-echuca-bowls-club/
URL:http://bowls.kajx.com/Broadcasts/joyce-thorn-memorial-womans-pairs-at-echuca-bowls-club/
END:VEVENT
END:VCALENDAR